BEGIN:VCALENDAR
VERSION:2.0
PRODID:-//CALS Program | Emergency Medical Training for Rural Healthcare Teams - ECPv6.15.20//NONSGML v1.0//EN
CALSCALE:GREGORIAN
METHOD:PUBLISH
X-WR-CALNAME:CALS Program | Emergency Medical Training for Rural Healthcare Teams
X-ORIGINAL-URL:https://www.calsprogram.org
X-WR-CALDESC:Events for CALS Program | Emergency Medical Training for Rural Healthcare Teams
REFRESH-INTERVAL;VALUE=DURATION:PT1H
X-Robots-Tag:noindex
X-PUBLISHED-TTL:PT1H
BEGIN:VTIMEZONE
TZID:UTC
BEGIN:STANDARD
TZOFFSETFROM:+0000
TZOFFSETTO:+0000
TZNAME:UTC
DTSTART:20200101T000000
END:STANDARD
END:VTIMEZONE
BEGIN:VEVENT
DTSTART;TZID=UTC:20210406T140000
DTEND;TZID=UTC:20210406T173000
DTSTAMP:20260422T111843
CREATED:20200708T173038Z
LAST-MODIFIED:20200708T173038Z
UID:4326-1617717600-1617730200@www.calsprogram.org
SUMMARY:Trauma Module: April 6\, 2021 -- Maple Grove\, MN
DESCRIPTION:Register for this course
URL:https://www.calsprogram.org/event/trauma-module-april-6-2021-maple-grove-mn/
LOCATION:MN
CATEGORIES:Minnesota,Trauma Module
END:VEVENT
BEGIN:VEVENT
DTSTART;TZID=UTC:20210407T070000
DTEND;TZID=UTC:20210408T170000
DTSTAMP:20260422T111843
CREATED:20200708T173135Z
LAST-MODIFIED:20200708T173135Z
UID:4328-1617778800-1617901200@www.calsprogram.org
SUMMARY:Provider Course:  April 7-8\, 2021 -- Maple Grove\, MN
DESCRIPTION:Register for this course
URL:https://www.calsprogram.org/event/provider-course-april-7-8-2021-maple-grove-mn/
LOCATION:MN
CATEGORIES:Minnesota,Provider Course
END:VEVENT
BEGIN:VEVENT
DTSTART;TZID=UTC:20210412T140000
DTEND;TZID=UTC:20210412T173000
DTSTAMP:20260422T111843
CREATED:20210113T231219Z
LAST-MODIFIED:20210113T231219Z
UID:4512-1618236000-1618248600@www.calsprogram.org
SUMMARY:Trauma Module: APR 12 2021 -- Cameron\, WI
DESCRIPTION:Register for course
URL:https://www.calsprogram.org/event/trauma-module-apr-12-2021-cameron-wi/
LOCATION:MN
CATEGORIES:Trauma Module,Wisconsin
END:VEVENT
BEGIN:VEVENT
DTSTART;TZID=UTC:20210413T070000
DTEND;TZID=UTC:20210414T170000
DTSTAMP:20260422T111843
CREATED:20210113T231344Z
LAST-MODIFIED:20210113T231344Z
UID:4514-1618297200-1618419600@www.calsprogram.org
SUMMARY:Provider Course:  APR 13-14\, 2021 -- Cameron\, WI
DESCRIPTION:Register for course
URL:https://www.calsprogram.org/event/provider-course-apr-13-14-2021-cameron-wi/
LOCATION:MN
CATEGORIES:Provider Course,Wisconsin
END:VEVENT
BEGIN:VEVENT
DTSTART;TZID=UTC:20210419T140000
DTEND;TZID=UTC:20210419T173000
DTSTAMP:20260422T111843
CREATED:20200915T222402Z
LAST-MODIFIED:20200915T222402Z
UID:4427-1618840800-1618853400@www.calsprogram.org
SUMMARY:Trauma Module: Plymouth\, MN APR 19 2021
DESCRIPTION:Register for this course
URL:https://www.calsprogram.org/event/trauma-module-plymouth-mn-apr-19-2021/
LOCATION:MN
CATEGORIES:Minnesota,Trauma Module
END:VEVENT
BEGIN:VEVENT
DTSTART;TZID=UTC:20210420T070000
DTEND;TZID=UTC:20210421T170000
DTSTAMP:20260422T111843
CREATED:20200915T222512Z
LAST-MODIFIED:20200915T222512Z
UID:4429-1618902000-1619024400@www.calsprogram.org
SUMMARY:Provider Course: Plymouth\, MN  APR 20-21 2021
DESCRIPTION:Register for this course
URL:https://www.calsprogram.org/event/provider-course-plymouth-mn-apr-20-21-2021/
LOCATION:MN
CATEGORIES:Minnesota,Provider Course
END:VEVENT
BEGIN:VEVENT
DTSTART;TZID=UTC:20210429T170000
DTEND;TZID=UTC:20210429T203000
DTSTAMP:20260422T111843
CREATED:20200129T191424Z
LAST-MODIFIED:20200129T191424Z
UID:4135-1619715600-1619728200@www.calsprogram.org
SUMMARY:Trauma Module: APR 29 2021 -- Wadena\, MN
DESCRIPTION:Register for this course
URL:https://www.calsprogram.org/event/trauma-module-oct-22-2020-wadena-mn/
LOCATION:MN
CATEGORIES:Minnesota,Trauma Module
END:VEVENT
BEGIN:VEVENT
DTSTART;TZID=UTC:20210430T070000
DTEND;TZID=UTC:20210501T170000
DTSTAMP:20260422T111843
CREATED:20200129T191524Z
LAST-MODIFIED:20200129T191524Z
UID:4137-1619766000-1619888400@www.calsprogram.org
SUMMARY:Provider Course: APR 30-MAY 1 2021 Wadena\, MN (OCT 23-24 2020)
DESCRIPTION:Register for this course
URL:https://www.calsprogram.org/event/provider-course-oct-23-24-wadena-mn/
LOCATION:MN
CATEGORIES:Minnesota,Provider Course
END:VEVENT
END:VCALENDAR