BEGIN:VCALENDAR
VERSION:2.0
PRODID:-//CALS Program | Emergency Medical Training for Rural Healthcare Teams - ECPv6.15.20//NONSGML v1.0//EN
CALSCALE:GREGORIAN
METHOD:PUBLISH
X-ORIGINAL-URL:https://www.calsprogram.org
X-WR-CALDESC:Events for CALS Program | Emergency Medical Training for Rural Healthcare Teams
REFRESH-INTERVAL;VALUE=DURATION:PT1H
X-Robots-Tag:noindex
X-PUBLISHED-TTL:PT1H
BEGIN:VTIMEZONE
TZID:UTC
BEGIN:STANDARD
TZOFFSETFROM:+0000
TZOFFSETTO:+0000
TZNAME:UTC
DTSTART:20200101T000000
END:STANDARD
END:VTIMEZONE
BEGIN:VEVENT
DTSTART;TZID=UTC:20210707T130000
DTEND;TZID=UTC:20210707T163000
DTSTAMP:20260422T072945
CREATED:20210323T160008Z
LAST-MODIFIED:20210323T160008Z
UID:4569-1625662800-1625675400@www.calsprogram.org
SUMMARY:Trauma Module: Plymouth\, MN JUL 7\, 2021
DESCRIPTION:Register for this course
URL:https://www.calsprogram.org/event/trauma-module-plymouth-mn-jul-9-2021/
LOCATION:MN
CATEGORIES:Minnesota,Trauma Module
END:VEVENT
BEGIN:VEVENT
DTSTART;TZID=UTC:20210708T070000
DTEND;TZID=UTC:20210709T170000
DTSTAMP:20260422T072945
CREATED:20210323T160213Z
LAST-MODIFIED:20210323T160213Z
UID:4572-1625727600-1625850000@www.calsprogram.org
SUMMARY:Provider Course: Plymouth\, MN JUL 8-9\, 2021
DESCRIPTION:Register for this course
URL:https://www.calsprogram.org/event/provider-course-plymouth-mn-jul-8-9-2021/
LOCATION:MN
CATEGORIES:Minnesota,Provider Course
END:VEVENT
BEGIN:VEVENT
DTSTART;TZID=UTC:20210720T130000
DTEND;TZID=UTC:20210720T163000
DTSTAMP:20260422T072945
CREATED:20210323T155655Z
LAST-MODIFIED:20210323T155655Z
UID:4565-1626786000-1626798600@www.calsprogram.org
SUMMARY:Trauma Module: Maple Grove\, MN JULY 20\, 2021
DESCRIPTION:Register for this course
URL:https://www.calsprogram.org/event/trauma-module-maple-grove-mn-july-20-2021/
LOCATION:MN
CATEGORIES:Minnesota,Trauma Module
END:VEVENT
BEGIN:VEVENT
DTSTART;TZID=UTC:20210721T070000
DTEND;TZID=UTC:20210722T170000
DTSTAMP:20260422T072945
CREATED:20210323T155812Z
LAST-MODIFIED:20210323T155812Z
UID:4567-1626850800-1626973200@www.calsprogram.org
SUMMARY:Provider Course: Maple Grove\, MN JUL 21-22 2021
DESCRIPTION:Register for this course
URL:https://www.calsprogram.org/event/provider-course-maple-grove-mn-jul-21-22-2021/
LOCATION:MN
CATEGORIES:Minnesota,Provider Course
END:VEVENT
END:VCALENDAR