BEGIN:VCALENDAR
VERSION:2.0
PRODID:-//CALS Program | Emergency Medical Training for Rural Healthcare Teams - ECPv6.15.20//NONSGML v1.0//EN
CALSCALE:GREGORIAN
METHOD:PUBLISH
X-ORIGINAL-URL:https://www.calsprogram.org
X-WR-CALDESC:Events for CALS Program | Emergency Medical Training for Rural Healthcare Teams
REFRESH-INTERVAL;VALUE=DURATION:PT1H
X-Robots-Tag:noindex
X-PUBLISHED-TTL:PT1H
BEGIN:VTIMEZONE
TZID:UTC
BEGIN:STANDARD
TZOFFSETFROM:+0000
TZOFFSETTO:+0000
TZNAME:UTC
DTSTART:20200101T000000
END:STANDARD
END:VTIMEZONE
BEGIN:VEVENT
DTSTART;TZID=UTC:20211201T070000
DTEND;TZID=UTC:20211202T170000
DTSTAMP:20260421T132456
CREATED:20210712T235453Z
LAST-MODIFIED:20210712T235453Z
UID:4650-1638342000-1638464400@www.calsprogram.org
SUMMARY:Provider Course: Plymouth\, MN  DEC 1-3\, 2021
DESCRIPTION:Register for this course.
URL:https://www.calsprogram.org/event/provider-course-plymouth-mn-dec-1-3-2021/
LOCATION:MN
CATEGORIES:Minnesota,Provider Course
END:VEVENT
BEGIN:VEVENT
DTSTART;TZID=UTC:20211213T130000
DTEND;TZID=UTC:20211213T170000
DTSTAMP:20260421T132456
CREATED:20210712T235727Z
LAST-MODIFIED:20210712T235727Z
UID:4652-1639400400-1639414800@www.calsprogram.org
SUMMARY:Trauma Module: Plymouth\, MN DEC 13 2021
DESCRIPTION:Register for this course.
URL:https://www.calsprogram.org/event/trauma-module-plymouth-mn-dec-13-2021/
LOCATION:MN
CATEGORIES:Minnesota,Trauma Module
END:VEVENT
BEGIN:VEVENT
DTSTART;TZID=UTC:20211214T070000
DTEND;TZID=UTC:20211215T170000
DTSTAMP:20260421T132456
CREATED:20210712T235844Z
LAST-MODIFIED:20210712T235844Z
UID:4654-1639465200-1639587600@www.calsprogram.org
SUMMARY:Provider Course: Plymouth\, MN  DEC 14-15 2021
DESCRIPTION:Register for this course.
URL:https://www.calsprogram.org/event/provider-course-plymouth-mn-dec-14-15-2021/
LOCATION:MN
CATEGORIES:Minnesota,Provider Course
END:VEVENT
END:VCALENDAR