BEGIN:VCALENDAR
VERSION:2.0
PRODID:-//CALS Program | Emergency Medical Training for Rural Healthcare Teams - ECPv6.15.20//NONSGML v1.0//EN
CALSCALE:GREGORIAN
METHOD:PUBLISH
X-ORIGINAL-URL:https://www.calsprogram.org
X-WR-CALDESC:Events for CALS Program | Emergency Medical Training for Rural Healthcare Teams
REFRESH-INTERVAL;VALUE=DURATION:PT1H
X-Robots-Tag:noindex
X-PUBLISHED-TTL:PT1H
BEGIN:VTIMEZONE
TZID:UTC
BEGIN:STANDARD
TZOFFSETFROM:+0000
TZOFFSETTO:+0000
TZNAME:UTC
DTSTART:20210101T000000
END:STANDARD
END:VTIMEZONE
BEGIN:VEVENT
DTSTART;TZID=UTC:20220518T160000
DTEND;TZID=UTC:20220518T193000
DTSTAMP:20260421T075350
CREATED:20211115T195405Z
LAST-MODIFIED:20211115T195405Z
UID:4794-1652889600-1652902200@www.calsprogram.org
SUMMARY:Trauma Module:  Graceville\, MN -- MAY 18\, 2022
DESCRIPTION:Register for this course.
URL:https://www.calsprogram.org/event/trauma-module-graceville-mn-may-18-2022/
LOCATION:MN
CATEGORIES:Minnesota,Trauma Module
END:VEVENT
BEGIN:VEVENT
DTSTART;TZID=UTC:20220519T070000
DTEND;TZID=UTC:20220520T170000
DTSTAMP:20260421T075350
CREATED:20211115T195505Z
LAST-MODIFIED:20211115T195505Z
UID:4796-1652943600-1653066000@www.calsprogram.org
SUMMARY:Provider Course: Graceville\, MN -- MAY 19-20\, 2022
DESCRIPTION:Register for this course.
URL:https://www.calsprogram.org/event/provider-course-graceville-mn-may-19-20-2022/
LOCATION:MN
CATEGORIES:Minnesota,Provider Course
END:VEVENT
BEGIN:VEVENT
DTSTART;TZID=UTC:20220523T160000
DTEND;TZID=UTC:20220523T200000
DTSTAMP:20260421T075350
CREATED:20211208T211135Z
LAST-MODIFIED:20211208T211135Z
UID:4835-1653321600-1653336000@www.calsprogram.org
SUMMARY:Trauma Module:  AITKIN\, MN MAY 23 2022
DESCRIPTION:Register for this course.
URL:https://www.calsprogram.org/event/trauma-module-maple-grove-mn-may-23-2022/
LOCATION:MN
CATEGORIES:Minnesota,Trauma Module
END:VEVENT
BEGIN:VEVENT
DTSTART;TZID=UTC:20220524T070000
DTEND;TZID=UTC:20220525T170000
DTSTAMP:20260421T075350
CREATED:20211208T211503Z
LAST-MODIFIED:20211208T211503Z
UID:4838-1653375600-1653498000@www.calsprogram.org
SUMMARY:Provider Course: AITKIN\, MN  MAY 24-25\, 2022
DESCRIPTION:Register for this course.
URL:https://www.calsprogram.org/event/provider-course-maple-grove-mn-may-24-25-2022/
LOCATION:MN
CATEGORIES:Minnesota,Provider Course
END:VEVENT
END:VCALENDAR