BEGIN:VCALENDAR
VERSION:2.0
PRODID:-//CALS Program | Emergency Medical Training for Rural Healthcare Teams - ECPv6.15.20//NONSGML v1.0//EN
CALSCALE:GREGORIAN
METHOD:PUBLISH
X-ORIGINAL-URL:https://www.calsprogram.org
X-WR-CALDESC:Events for CALS Program | Emergency Medical Training for Rural Healthcare Teams
REFRESH-INTERVAL;VALUE=DURATION:PT1H
X-Robots-Tag:noindex
X-PUBLISHED-TTL:PT1H
BEGIN:VTIMEZONE
TZID:UTC
BEGIN:STANDARD
TZOFFSETFROM:+0000
TZOFFSETTO:+0000
TZNAME:UTC
DTSTART:20210101T000000
END:STANDARD
END:VTIMEZONE
BEGIN:VEVENT
DTSTART;TZID=UTC:20220909T160000
DTEND;TZID=UTC:20220909T193000
DTSTAMP:20260422T031211
CREATED:20220705T194512Z
LAST-MODIFIED:20220705T194512Z
UID:4963-1662739200-1662751800@www.calsprogram.org
SUMMARY:Trauma Module: BLoomington\, MN  SEPT 9 2022
DESCRIPTION:Register for this course
URL:https://www.calsprogram.org/event/closed-army-natl-guard-trauma-module-sept-9-2022/
LOCATION:MN
CATEGORIES:Minnesota,Trauma Module
END:VEVENT
BEGIN:VEVENT
DTSTART;TZID=UTC:20220910T070000
DTEND;TZID=UTC:20220911T170000
DTSTAMP:20260422T031211
CREATED:20220705T194741Z
LAST-MODIFIED:20220705T194741Z
UID:4965-1662793200-1662915600@www.calsprogram.org
SUMMARY:Provider Course:  Bloomington\, MN -- SEPT 10-11 2022
DESCRIPTION:Register for this course
URL:https://www.calsprogram.org/event/closed-army-natl-guard-cals-2-day-provider-course-sept-10-11-2022/
LOCATION:MN
CATEGORIES:Minnesota,Provider Course
END:VEVENT
BEGIN:VEVENT
DTSTART;TZID=UTC:20220912T170000
DTEND;TZID=UTC:20220912T203000
DTSTAMP:20260422T031211
CREATED:20210806T155909Z
LAST-MODIFIED:20210806T155909Z
UID:4717-1663002000-1663014600@www.calsprogram.org
SUMMARY:Trauma Module: Monticello\, MN  SEPT 12\, 2022
DESCRIPTION:Register for this event
URL:https://www.calsprogram.org/event/trauma-module-monticello-mn-sept-19-2022/
LOCATION:MN
CATEGORIES:Minnesota,Trauma Module
END:VEVENT
BEGIN:VEVENT
DTSTART;TZID=UTC:20220913T070000
DTEND;TZID=UTC:20220914T170000
DTSTAMP:20260422T031211
CREATED:20210806T160008Z
LAST-MODIFIED:20210806T160008Z
UID:4719-1663052400-1663174800@www.calsprogram.org
SUMMARY:Provider Course: Monticello\, MN  SEPT 13-14\, 2022
DESCRIPTION:Register for this course
URL:https://www.calsprogram.org/event/provider-course-monticello-mn-sept-20-21-2022/
LOCATION:MN
CATEGORIES:Minnesota,Provider Course
END:VEVENT
BEGIN:VEVENT
DTSTART;TZID=UTC:20220928T140000
DTEND;TZID=UTC:20220928T180000
DTSTAMP:20260422T031211
CREATED:20220705T221050Z
LAST-MODIFIED:20220705T221050Z
UID:4976-1664373600-1664388000@www.calsprogram.org
SUMMARY:Trauma Module:  Lewistown MT  SEPT 20 2022
DESCRIPTION:Register for this course
URL:https://www.calsprogram.org/event/trauma-module-lewistown-mt-sept-20-2022/
LOCATION:MN
CATEGORIES:Montana,Trauma Module
END:VEVENT
BEGIN:VEVENT
DTSTART;TZID=UTC:20220929T070000
DTEND;TZID=UTC:20220930T170000
DTSTAMP:20260422T031211
CREATED:20220705T221147Z
LAST-MODIFIED:20220705T221147Z
UID:4978-1664434800-1664557200@www.calsprogram.org
SUMMARY:Provider Course:  Lewistown MT  SEPT 29-30 2022
DESCRIPTION:Register for this course
URL:https://www.calsprogram.org/event/provider-course-lewistown-mt-sept-29-30-2022/
LOCATION:MN
CATEGORIES:Montana,Provider Course
END:VEVENT
END:VCALENDAR