BEGIN:VCALENDAR
VERSION:2.0
PRODID:-//CALS Program | Emergency Medical Training for Rural Healthcare Teams - ECPv6.15.20//NONSGML v1.0//EN
CALSCALE:GREGORIAN
METHOD:PUBLISH
X-WR-CALNAME:CALS Program | Emergency Medical Training for Rural Healthcare Teams
X-ORIGINAL-URL:https://www.calsprogram.org
X-WR-CALDESC:Events for CALS Program | Emergency Medical Training for Rural Healthcare Teams
REFRESH-INTERVAL;VALUE=DURATION:PT1H
X-Robots-Tag:noindex
X-PUBLISHED-TTL:PT1H
BEGIN:VTIMEZONE
TZID:UTC
BEGIN:STANDARD
TZOFFSETFROM:+0000
TZOFFSETTO:+0000
TZNAME:UTC
DTSTART:20210101T000000
END:STANDARD
END:VTIMEZONE
BEGIN:VEVENT
DTSTART;TZID=UTC:20221206T170000
DTEND;TZID=UTC:20221206T203000
DTSTAMP:20260421T205640
CREATED:20220421T161049Z
LAST-MODIFIED:20220421T161049Z
UID:4910-1670346000-1670358600@www.calsprogram.org
SUMMARY:Trauma Module:  DEC 6\, 2022 -- BLOOMINGTON\, MN
DESCRIPTION:Register for this course. \nNOTE:  TM time change — 5:00-8:45 pm \nNOTE:  LOCATION CHANGE — Bloomington\, MN
URL:https://www.calsprogram.org/event/trauma-module-dec-6-2022-plymouth-mn/
LOCATION:MN
CATEGORIES:Minnesota,Trauma Module
END:VEVENT
BEGIN:VEVENT
DTSTART;TZID=UTC:20221207T070000
DTEND;TZID=UTC:20221208T170000
DTSTAMP:20260421T205640
CREATED:20220421T161305Z
LAST-MODIFIED:20220421T161305Z
UID:4912-1670396400-1670518800@www.calsprogram.org
SUMMARY:Provider Course: BLOOMINGTON\, MN  DEC 7-8\, 2022
DESCRIPTION:Register for this course.
URL:https://www.calsprogram.org/event/provider-course-plymouth-mn-dec-7-8-2022/
LOCATION:MN
CATEGORIES:Minnesota,Provider Course
END:VEVENT
END:VCALENDAR