BEGIN:VCALENDAR
VERSION:2.0
PRODID:-//CALS Program | Emergency Medical Training for Rural Healthcare Teams - ECPv6.15.20//NONSGML v1.0//EN
CALSCALE:GREGORIAN
METHOD:PUBLISH
X-WR-CALNAME:CALS Program | Emergency Medical Training for Rural Healthcare Teams
X-ORIGINAL-URL:https://www.calsprogram.org
X-WR-CALDESC:Events for CALS Program | Emergency Medical Training for Rural Healthcare Teams
REFRESH-INTERVAL;VALUE=DURATION:PT1H
X-Robots-Tag:noindex
X-PUBLISHED-TTL:PT1H
BEGIN:VTIMEZONE
TZID:America/Chicago
BEGIN:DAYLIGHT
TZOFFSETFROM:-0600
TZOFFSETTO:-0500
TZNAME:CDT
DTSTART:20220313T080000
END:DAYLIGHT
BEGIN:STANDARD
TZOFFSETFROM:-0500
TZOFFSETTO:-0600
TZNAME:CST
DTSTART:20221106T070000
END:STANDARD
BEGIN:DAYLIGHT
TZOFFSETFROM:-0600
TZOFFSETTO:-0500
TZNAME:CDT
DTSTART:20230312T080000
END:DAYLIGHT
BEGIN:STANDARD
TZOFFSETFROM:-0500
TZOFFSETTO:-0600
TZNAME:CST
DTSTART:20231105T070000
END:STANDARD
BEGIN:DAYLIGHT
TZOFFSETFROM:-0600
TZOFFSETTO:-0500
TZNAME:CDT
DTSTART:20240310T080000
END:DAYLIGHT
BEGIN:STANDARD
TZOFFSETFROM:-0500
TZOFFSETTO:-0600
TZNAME:CST
DTSTART:20241103T070000
END:STANDARD
END:VTIMEZONE
BEGIN:VTIMEZONE
TZID:UTC
BEGIN:STANDARD
TZOFFSETFROM:+0000
TZOFFSETTO:+0000
TZNAME:UTC
DTSTART:20220101T000000
END:STANDARD
END:VTIMEZONE
BEGIN:VTIMEZONE
TZID:America/Denver
BEGIN:DAYLIGHT
TZOFFSETFROM:-0700
TZOFFSETTO:-0600
TZNAME:MDT
DTSTART:20220313T090000
END:DAYLIGHT
BEGIN:STANDARD
TZOFFSETFROM:-0600
TZOFFSETTO:-0700
TZNAME:MST
DTSTART:20221106T080000
END:STANDARD
BEGIN:DAYLIGHT
TZOFFSETFROM:-0700
TZOFFSETTO:-0600
TZNAME:MDT
DTSTART:20230312T090000
END:DAYLIGHT
BEGIN:STANDARD
TZOFFSETFROM:-0600
TZOFFSETTO:-0700
TZNAME:MST
DTSTART:20231105T080000
END:STANDARD
BEGIN:DAYLIGHT
TZOFFSETFROM:-0700
TZOFFSETTO:-0600
TZNAME:MDT
DTSTART:20240310T090000
END:DAYLIGHT
BEGIN:STANDARD
TZOFFSETFROM:-0600
TZOFFSETTO:-0700
TZNAME:MST
DTSTART:20241103T080000
END:STANDARD
END:VTIMEZONE
BEGIN:VEVENT
DTSTART;TZID=America/Chicago:20231003T140000
DTEND;TZID=America/Chicago:20231003T173000
DTSTAMP:20260423T030743
CREATED:20230525T231518Z
LAST-MODIFIED:20230525T231518Z
UID:5209-1696341600-1696354200@www.calsprogram.org
SUMMARY:Trauma Module:  OCT 3 2023 MARSHALL MN
DESCRIPTION:Register for this course.
URL:https://www.calsprogram.org/event/trauma-module-oct-3-2023-marshall-mn/
LOCATION:MN
CATEGORIES:Minnesota,Trauma Module
END:VEVENT
BEGIN:VEVENT
DTSTART;TZID=America/Chicago:20231004T070000
DTEND;TZID=America/Chicago:20231005T170000
DTSTAMP:20260423T030743
CREATED:20230525T231730Z
LAST-MODIFIED:20230525T231730Z
UID:5212-1696402800-1696525200@www.calsprogram.org
SUMMARY:Provider Course:  OCT 4-5 2023 -- MARSHALL\, MN
DESCRIPTION:Register for this course.
URL:https://www.calsprogram.org/event/provider-course-oct-4-5-2023-marshall-mn/
LOCATION:MN
CATEGORIES:Minnesota,Provider Course
END:VEVENT
BEGIN:VEVENT
DTSTART;TZID=America/Chicago:20231005T130000
DTEND;TZID=America/Chicago:20231005T170000
DTSTAMP:20260423T030743
CREATED:20230817T182147Z
LAST-MODIFIED:20230817T182147Z
UID:5280-1696510800-1696525200@www.calsprogram.org
SUMMARY:OB Module:  Marshall\, MN  OCT 5 2023
DESCRIPTION:Register for this course
URL:https://www.calsprogram.org/event/ob-module-marshall-mn-oct-5-2023/
LOCATION:MN
CATEGORIES:Minnesota,OB/Neonate
END:VEVENT
BEGIN:VEVENT
DTSTART;TZID=UTC:20231010T160000
DTEND;TZID=UTC:20231010T200000
DTSTAMP:20260423T030743
CREATED:20230202T194958Z
LAST-MODIFIED:20230202T194958Z
UID:5124-1696953600-1696968000@www.calsprogram.org
SUMMARY:Trauma Module:  Aitkin MN  OCT 10 2023
DESCRIPTION:Register for this course.
URL:https://www.calsprogram.org/event/trauma-module-aitkin-mn-oct-10-2023/
LOCATION:MN
CATEGORIES:Minnesota,Trauma Module
END:VEVENT
BEGIN:VEVENT
DTSTART;TZID=UTC:20231011T070000
DTEND;TZID=UTC:20231012T170000
DTSTAMP:20260423T030743
CREATED:20230202T195111Z
LAST-MODIFIED:20230202T195111Z
UID:5126-1697007600-1697130000@www.calsprogram.org
SUMMARY:Provider Course:  Aitkin MN -- OCT 11-12 2023
DESCRIPTION:Register for this course.
URL:https://www.calsprogram.org/event/provider-course-aitkin-mn-oct-11-12-2023/
LOCATION:MN
CATEGORIES:Minnesota,Provider Course
END:VEVENT
BEGIN:VEVENT
DTSTART;TZID=UTC:20231013T080000
DTEND;TZID=UTC:20231013T180000
DTSTAMP:20260423T030743
CREATED:20230822T154717Z
LAST-MODIFIED:20230822T154717Z
UID:5288-1697184000-1697220000@www.calsprogram.org
SUMMARY:Trauma Module: Anchorage\, AK  OCT 13 2023
DESCRIPTION:Contact Jenny Brown to register:  907-699-4205 or jennifer.brown@tananachiefs.org
URL:https://www.calsprogram.org/event/trauma-module-anchorage-ak-oct-13-2023/
LOCATION:MN
CATEGORIES:Alaska,Trauma Module
END:VEVENT
BEGIN:VEVENT
DTSTART;TZID=UTC:20231014T080000
DTEND;TZID=UTC:20231015T180000
DTSTAMP:20260423T030743
CREATED:20230822T154908Z
LAST-MODIFIED:20230822T154908Z
UID:5291-1697270400-1697392800@www.calsprogram.org
SUMMARY:Provider Course: Anchorage\, AK  OCT 14-15\, 2023
DESCRIPTION:Contact Jenny Brown to register:  907-699-4205 or jennifer.brown@tananachiefs.org
URL:https://www.calsprogram.org/event/provider-course-anchorage-ak-oct-14-15-2023/
LOCATION:MN
CATEGORIES:Alaska,Provider Course
END:VEVENT
BEGIN:VEVENT
DTSTART;TZID=America/Denver:20231027T140000
DTEND;TZID=America/Denver:20231027T180000
DTSTAMP:20260423T030743
CREATED:20230530T233353Z
LAST-MODIFIED:20230530T233353Z
UID:5229-1698415200-1698429600@www.calsprogram.org
SUMMARY:Trauma Module: Deer Lodge\, MT OCT 27 2023
DESCRIPTION:To register for this course\, Contact: cwilliams@montanahealthnetwork.com
URL:https://www.calsprogram.org/event/trauma-module-deer-lodge-mt-oct-27-2023/
LOCATION:MN
CATEGORIES:Montana,Trauma Module
END:VEVENT
END:VCALENDAR